BEGIN:VCALENDAR
VERSION:2.0
PRODID:-//Bosco di Hambach - ECPv5.16.4//NONSGML v1.0//EN
CALSCALE:GREGORIAN
METHOD:PUBLISH
X-WR-CALNAME:Bosco di Hambach
X-ORIGINAL-URL:https://new.hambacherforst.org
X-WR-CALDESC:Events for Bosco di Hambach
BEGIN:VTIMEZONE
TZID:Europe/Berlin
BEGIN:DAYLIGHT
TZOFFSETFROM:+0100
TZOFFSETTO:+0200
TZNAME:CEST
DTSTART:20170326T010000
END:DAYLIGHT
BEGIN:STANDARD
TZOFFSETFROM:+0200
TZOFFSETTO:+0100
TZNAME:CET
DTSTART:20171029T010000
END:STANDARD
BEGIN:DAYLIGHT
TZOFFSETFROM:+0100
TZOFFSETTO:+0200
TZNAME:CEST
DTSTART:20180325T010000
END:DAYLIGHT
BEGIN:STANDARD
TZOFFSETFROM:+0200
TZOFFSETTO:+0100
TZNAME:CET
DTSTART:20181028T010000
END:STANDARD
END:VTIMEZONE
BEGIN:VEVENT
DTSTART;VALUE=DATE:20171001
DTEND;VALUE=DATE:20180301
DTSTAMP:20260419T145111
CREATED:20170703T092626Z
LAST-MODIFIED:20180113T022609Z
UID:1994-1506816000-1519862399@new.hambacherforst.org
SUMMARY:(Non) deforesting season 2017-2018
DESCRIPTION:The real deforesting season lasted only 2 days!
URL:https://new.hambacherforst.org/termin/die-rodungssaison-beginnt/
END:VEVENT
END:VCALENDAR